BEGIN:VCALENDAR
VERSION:2.0
PRODID:-//Tulip Medical - ECPv6.15.18//NONSGML v1.0//EN
CALSCALE:GREGORIAN
METHOD:PUBLISH
X-WR-CALNAME:Tulip Medical
X-ORIGINAL-URL:https://www.tulipmedical.com
X-WR-CALDESC:Events for Tulip Medical
REFRESH-INTERVAL;VALUE=DURATION:PT1H
X-Robots-Tag:noindex
X-PUBLISHED-TTL:PT1H
BEGIN:VTIMEZONE
TZID:America/Los_Angeles
BEGIN:DAYLIGHT
TZOFFSETFROM:-0800
TZOFFSETTO:-0700
TZNAME:PDT
DTSTART:20250309T100000
END:DAYLIGHT
BEGIN:STANDARD
TZOFFSETFROM:-0700
TZOFFSETTO:-0800
TZNAME:PST
DTSTART:20251102T090000
END:STANDARD
BEGIN:DAYLIGHT
TZOFFSETFROM:-0800
TZOFFSETTO:-0700
TZNAME:PDT
DTSTART:20260308T100000
END:DAYLIGHT
BEGIN:STANDARD
TZOFFSETFROM:-0700
TZOFFSETTO:-0800
TZNAME:PST
DTSTART:20261101T090000
END:STANDARD
BEGIN:DAYLIGHT
TZOFFSETFROM:-0800
TZOFFSETTO:-0700
TZNAME:PDT
DTSTART:20270314T100000
END:DAYLIGHT
BEGIN:STANDARD
TZOFFSETFROM:-0700
TZOFFSETTO:-0800
TZNAME:PST
DTSTART:20271107T090000
END:STANDARD
END:VTIMEZONE
BEGIN:VEVENT
DTSTART;VALUE=DATE:20260425
DTEND;VALUE=DATE:20260427
DTSTAMP:20260425T033407
CREATED:20260417T171958Z
LAST-MODIFIED:20260417T172753Z
UID:5373-1777075200-1777247999@www.tulipmedical.com
SUMMARY:American Academy of Cosmetic Surgery - Mastering Modern Techniques in Facial Cosmetic Surgery
DESCRIPTION:Come see us in Florida!
URL:https://www.tulipmedical.com/event-calendar/american-academy-of-cosmetic-surgery-mastering-modern-techniques-in-facial-cosmetic-surgery/
LOCATION:Celebration\, Florida\, Celebration\, Florida\, United States
END:VEVENT
END:VCALENDAR